Package: epimutacions Version: 1.3.0 Command: /home/biocbuild/bbs-3.17-bioc/R/bin/R CMD INSTALL epimutacions StartedAt: 2023-04-11 15:42:44 -0400 (Tue, 11 Apr 2023) EndedAt: 2023-04-11 15:43:30 -0400 (Tue, 11 Apr 2023) EllapsedTime: 45.8 seconds RetCode: 0 Status: OK