Package: epimutacions Version: 1.3.0 Command: /home/biocbuild/bbs-3.17-bioc/R/bin/R CMD build --keep-empty-dirs --no-resave-data epimutacions StartedAt: 2023-04-11 16:26:50 -0400 (Tue, 11 Apr 2023) EndedAt: 2023-04-11 16:29:07 -0400 (Tue, 11 Apr 2023) EllapsedTime: 137.2 seconds RetCode: 1 Status: ERROR PackageFile: None PackageFileSize: NA