Package: easier Version: 1.5.0 Command: /home/biocbuild/bbs-3.17-bioc/R/bin/R CMD build --keep-empty-dirs --no-resave-data easier StartedAt: 2023-04-11 16:24:25 -0400 (Tue, 11 Apr 2023) EndedAt: 2023-04-11 16:29:56 -0400 (Tue, 11 Apr 2023) EllapsedTime: 330.4 seconds RetCode: 0 Status: OK PackageFile: easier_1.5.0.tar.gz PackageFileSize: 3.304 MiB