Package: dmrseq Version: 1.19.1 Command: /home/biocbuild/bbs-3.17-bioc/R/bin/R CMD build --keep-empty-dirs --no-resave-data dmrseq StartedAt: 2023-04-11 16:22:26 -0400 (Tue, 11 Apr 2023) EndedAt: 2023-04-11 16:25:16 -0400 (Tue, 11 Apr 2023) EllapsedTime: 169.7 seconds RetCode: 0 Status: OK PackageFile: dmrseq_1.19.1.tar.gz PackageFileSize: 2.784 MiB