Package: discordant Version: 1.23.0 Command: /home/biocbuild/bbs-3.17-bioc/R/bin/R CMD INSTALL discordant StartedAt: 2023-04-11 15:05:09 -0400 (Tue, 11 Apr 2023) EndedAt: 2023-04-11 15:05:35 -0400 (Tue, 11 Apr 2023) EllapsedTime: 26.0 seconds RetCode: 0 Status: OK