Package: dce Version: 1.7.0 Command: /home/biocbuild/bbs-3.17-bioc/R/bin/R CMD build --keep-empty-dirs --no-resave-data dce StartedAt: 2023-04-11 16:16:55 -0400 (Tue, 11 Apr 2023) EndedAt: 2023-04-11 16:18:52 -0400 (Tue, 11 Apr 2023) EllapsedTime: 117.0 seconds RetCode: 1 Status: ERROR PackageFile: None PackageFileSize: NA