Package: categoryCompare Version: 1.43.0 Command: /home/biocbuild/bbs-3.17-bioc/R/bin/R CMD INSTALL categoryCompare StartedAt: 2023-04-11 15:29:33 -0400 (Tue, 11 Apr 2023) EndedAt: 2023-04-11 15:30:02 -0400 (Tue, 11 Apr 2023) EllapsedTime: 29.1 seconds RetCode: 0 Status: OK