Package: categoryCompare Version: 1.43.0 Command: /home/biocbuild/bbs-3.17-bioc/R/bin/R CMD build --keep-empty-dirs --no-resave-data categoryCompare StartedAt: 2023-04-11 16:01:08 -0400 (Tue, 11 Apr 2023) EndedAt: 2023-04-11 16:03:37 -0400 (Tue, 11 Apr 2023) EllapsedTime: 148.6 seconds RetCode: 0 Status: OK PackageFile: categoryCompare_1.43.0.tar.gz PackageFileSize: 3.162 MiB