Package: banocc Version: 1.23.0 Command: /home/biocbuild/bbs-3.17-bioc/R/bin/R CMD INSTALL banocc StartedAt: 2023-04-12 01:37:51 -0400 (Wed, 12 Apr 2023) EndedAt: 2023-04-12 01:38:02 -0400 (Wed, 12 Apr 2023) EllapsedTime: 10.2 seconds RetCode: 0 Status: OK