Package: banocc Version: 1.23.0 Command: /home/biocbuild/bbs-3.17-bioc/R/bin/R CMD build --keep-empty-dirs --no-resave-data banocc StartedAt: 2023-04-12 02:14:21 -0400 (Wed, 12 Apr 2023) EndedAt: 2023-04-12 02:16:49 -0400 (Wed, 12 Apr 2023) EllapsedTime: 147.5 seconds RetCode: 0 Status: OK PackageFile: banocc_1.23.0.tar.gz PackageFileSize: 26 MiB