Package: alabaster.se Version: 0.99.1 Command: /home/biocbuild/bbs-3.17-bioc/R/bin/R CMD build --keep-empty-dirs --no-resave-data alabaster.se StartedAt: 2023-04-12 02:10:34 -0400 (Wed, 12 Apr 2023) EndedAt: 2023-04-12 02:11:08 -0400 (Wed, 12 Apr 2023) EllapsedTime: 33.1 seconds RetCode: 0 Status: OK PackageFile: alabaster.se_0.99.1.tar.gz PackageFileSize: 223.7 KiB