Package: VariantExperiment Version: 1.13.0 Command: /home/biocbuild/bbs-3.17-bioc/R/bin/R CMD INSTALL VariantExperiment StartedAt: 2023-04-11 15:07:03 -0400 (Tue, 11 Apr 2023) EndedAt: 2023-04-11 15:07:25 -0400 (Tue, 11 Apr 2023) EllapsedTime: 21.9 seconds RetCode: 0 Status: OK