Package: VariantAnnotation Version: 1.45.1 Command: /home/biocbuild/bbs-3.17-bioc/R/bin/R CMD check --install=check:VariantAnnotation.install-out.txt --library=/home/biocbuild/bbs-3.17-bioc/R/site-library --timings VariantAnnotation_1.45.1.tar.gz StartedAt: 2023-04-12 00:20:33 -0400 (Wed, 12 Apr 2023) EndedAt: 2023-04-12 00:31:57 -0400 (Wed, 12 Apr 2023) EllapsedTime: 683.9 seconds RetCode: 0 Status: WARNINGS CheckDir: VariantAnnotation.Rcheck Warnings: 2