Package: TargetScore Version: 1.37.0 Command: /home/biocbuild/bbs-3.17-bioc/R/bin/R CMD build --keep-empty-dirs --no-resave-data TargetScore StartedAt: 2023-04-11 18:11:22 -0400 (Tue, 11 Apr 2023) EndedAt: 2023-04-11 18:11:37 -0400 (Tue, 11 Apr 2023) EllapsedTime: 15.5 seconds RetCode: 0 Status: OK PackageFile: TargetScore_1.37.0.tar.gz PackageFileSize: 1.231 MiB