Package: SpatialOmicsOverlay Version: 0.99.23 Command: /home/biocbuild/bbs-3.17-bioc/R/bin/R CMD INSTALL SpatialOmicsOverlay StartedAt: 2023-04-11 15:27:06 -0400 (Tue, 11 Apr 2023) EndedAt: 2023-04-11 15:27:34 -0400 (Tue, 11 Apr 2023) EllapsedTime: 28.5 seconds RetCode: 0 Status: OK