Package: SGCP Version: 0.99.10 Command: /home/biocbuild/bbs-3.17-bioc/R/bin/R CMD build --keep-empty-dirs --no-resave-data SGCP StartedAt: 2023-04-11 17:59:09 -0400 (Tue, 11 Apr 2023) EndedAt: 2023-04-11 18:01:11 -0400 (Tue, 11 Apr 2023) EllapsedTime: 121.8 seconds RetCode: 0 Status: OK PackageFile: SGCP_0.99.10.tar.gz PackageFileSize: 2.462 MiB