Package: SC3 Version: 1.27.0 Command: /home/biocbuild/bbs-3.17-bioc/R/bin/R CMD check --install=check:SC3.install-out.txt --library=/home/biocbuild/bbs-3.17-bioc/R/site-library --timings SC3_1.27.0.tar.gz StartedAt: 2023-04-12 09:05:33 -0400 (Wed, 12 Apr 2023) EndedAt: 2023-04-12 09:08:21 -0400 (Wed, 12 Apr 2023) EllapsedTime: 168.5 seconds RetCode: 1 Status: ERROR CheckDir: SC3.Rcheck Warnings: NA