Package: RolDE Version: 1.3.0 Command: /home/biocbuild/bbs-3.17-bioc/R/bin/R CMD INSTALL RolDE StartedAt: 2023-04-12 01:39:00 -0400 (Wed, 12 Apr 2023) EndedAt: 2023-04-12 01:39:29 -0400 (Wed, 12 Apr 2023) EllapsedTime: 28.9 seconds RetCode: 0 Status: OK