Package: RolDE Version: 1.3.0 Command: /home/biocbuild/bbs-3.17-bioc/R/bin/R CMD build --keep-empty-dirs --no-resave-data RolDE StartedAt: 2023-04-12 03:59:22 -0400 (Wed, 12 Apr 2023) EndedAt: 2023-04-12 03:59:50 -0400 (Wed, 12 Apr 2023) EllapsedTime: 28.1 seconds RetCode: 0 Status: OK PackageFile: RolDE_1.3.0.tar.gz PackageFileSize: 1.243 MiB