Package: Rcwl Version: 1.15.6 Command: /home/biocbuild/bbs-3.17-bioc/R/bin/R CMD build --keep-empty-dirs --no-resave-data Rcwl StartedAt: 2023-04-11 17:38:34 -0400 (Tue, 11 Apr 2023) EndedAt: 2023-04-11 17:39:19 -0400 (Tue, 11 Apr 2023) EllapsedTime: 45.1 seconds RetCode: 0 Status: OK PackageFile: Rcwl_1.15.6.tar.gz PackageFileSize: 1.009 MiB