Package: RandomWalkRestartMH Version: 1.19.0 Command: /home/biocbuild/bbs-3.17-bioc/R/bin/R CMD build --keep-empty-dirs --no-resave-data RandomWalkRestartMH StartedAt: 2023-04-11 17:37:13 -0400 (Tue, 11 Apr 2023) EndedAt: 2023-04-11 17:39:09 -0400 (Tue, 11 Apr 2023) EllapsedTime: 116.3 seconds RetCode: 0 Status: OK PackageFile: RandomWalkRestartMH_1.19.0.tar.gz PackageFileSize: 6.451 MiB