Package: RUVcorr Version: 1.31.0 Command: /home/biocbuild/bbs-3.17-bioc/R/bin/R CMD INSTALL RUVcorr StartedAt: 2023-04-11 15:11:44 -0400 (Tue, 11 Apr 2023) EndedAt: 2023-04-11 15:11:47 -0400 (Tue, 11 Apr 2023) EllapsedTime: 3.7 seconds RetCode: 0 Status: OK