Package: RRHO Version: 1.39.0 Command: /home/biocbuild/bbs-3.17-bioc/R/bin/R CMD build --keep-empty-dirs --no-resave-data RRHO StartedAt: 2023-04-12 04:00:35 -0400 (Wed, 12 Apr 2023) EndedAt: 2023-04-12 04:00:41 -0400 (Wed, 12 Apr 2023) EllapsedTime: 6.0 seconds RetCode: 0 Status: OK PackageFile: RRHO_1.39.0.tar.gz PackageFileSize: 557.1 KiB