Package: RNAmodR.AlkAnilineSeq Version: 1.13.0 Command: /home/biocbuild/bbs-3.17-bioc/R/bin/R CMD build --keep-empty-dirs --no-resave-data RNAmodR.AlkAnilineSeq StartedAt: 2023-04-11 17:45:02 -0400 (Tue, 11 Apr 2023) EndedAt: 2023-04-11 17:47:17 -0400 (Tue, 11 Apr 2023) EllapsedTime: 135.3 seconds RetCode: 0 Status: OK PackageFile: RNAmodR.AlkAnilineSeq_1.13.0.tar.gz PackageFileSize: 1004 KiB