Package: RGSEA Version: 1.33.0 Command: /home/biocbuild/bbs-3.17-bioc/R/bin/R CMD build --keep-empty-dirs --no-resave-data RGSEA StartedAt: 2023-04-11 17:41:51 -0400 (Tue, 11 Apr 2023) EndedAt: 2023-04-11 17:42:19 -0400 (Tue, 11 Apr 2023) EllapsedTime: 27.2 seconds RetCode: 0 Status: OK PackageFile: RGSEA_1.33.0.tar.gz PackageFileSize: 1.723 MiB