Package: QuasR Version: 1.39.2 Command: /home/biocbuild/bbs-3.17-bioc/R/bin/R CMD INSTALL QuasR StartedAt: 2023-04-11 15:21:09 -0400 (Tue, 11 Apr 2023) EndedAt: 2023-04-11 15:22:10 -0400 (Tue, 11 Apr 2023) EllapsedTime: 61.7 seconds RetCode: 0 Status: OK