Package: PING Version: 2.43.0 Command: /home/biocbuild/bbs-3.17-bioc/R/bin/R CMD build --keep-empty-dirs --no-resave-data PING StartedAt: 2023-04-11 17:29:33 -0400 (Tue, 11 Apr 2023) EndedAt: 2023-04-11 17:29:36 -0400 (Tue, 11 Apr 2023) EllapsedTime: 2.3 seconds RetCode: 0 Status: OK PackageFile: PING_2.43.0.tar.gz PackageFileSize: 4.51 MiB