Package: PERFect Version: 1.13.0 Command: /home/biocbuild/bbs-3.17-bioc/R/bin/R CMD check --install=check:PERFect.install-out.txt --library=/home/biocbuild/bbs-3.17-bioc/R/site-library --timings PERFect_1.13.0.tar.gz StartedAt: 2023-04-12 08:18:42 -0400 (Wed, 12 Apr 2023) EndedAt: 2023-04-12 08:22:40 -0400 (Wed, 12 Apr 2023) EllapsedTime: 237.7 seconds RetCode: 1 Status: ERROR CheckDir: PERFect.Rcheck Warnings: NA