Package: Organism.dplyr Version: 1.27.2 Command: /home/biocbuild/bbs-3.17-bioc/R/bin/R CMD build --keep-empty-dirs --no-resave-data Organism.dplyr StartedAt: 2023-04-11 17:18:57 -0400 (Tue, 11 Apr 2023) EndedAt: 2023-04-11 17:20:49 -0400 (Tue, 11 Apr 2023) EllapsedTime: 111.5 seconds RetCode: 0 Status: OK PackageFile: Organism.dplyr_1.27.2.tar.gz PackageFileSize: 504 KiB