Package: OmicsLonDA Version: 1.15.0 Command: /home/biocbuild/bbs-3.17-bioc/R/bin/R CMD build --keep-empty-dirs --no-resave-data OmicsLonDA StartedAt: 2023-04-11 17:16:10 -0400 (Tue, 11 Apr 2023) EndedAt: 2023-04-11 17:16:31 -0400 (Tue, 11 Apr 2023) EllapsedTime: 21.6 seconds RetCode: 1 Status: ERROR PackageFile: None PackageFileSize: NA