Package: ODER Version: 1.5.1 Command: /home/biocbuild/bbs-3.17-bioc/R/bin/R CMD build --keep-empty-dirs --no-resave-data ODER StartedAt: 2023-04-11 17:15:18 -0400 (Tue, 11 Apr 2023) EndedAt: 2023-04-11 17:18:06 -0400 (Tue, 11 Apr 2023) EllapsedTime: 167.3 seconds RetCode: 0 Status: OK PackageFile: ODER_1.5.1.tar.gz PackageFileSize: 2.471 MiB