Package: MsCoreUtils Version: 1.11.6 Command: /home/biocbuild/bbs-3.17-bioc/R/bin/R CMD check --install=check:MsCoreUtils.install-out.txt --library=/home/biocbuild/bbs-3.17-bioc/R/site-library --timings MsCoreUtils_1.11.6.tar.gz StartedAt: 2023-04-11 21:47:59 -0400 (Tue, 11 Apr 2023) EndedAt: 2023-04-11 21:49:59 -0400 (Tue, 11 Apr 2023) EllapsedTime: 119.9 seconds RetCode: 0 Status: OK CheckDir: MsCoreUtils.Rcheck Warnings: 0