Package: MEB Version: 1.13.0 Command: /home/biocbuild/bbs-3.17-bioc/R/bin/R CMD build --keep-empty-dirs --no-resave-data MEB StartedAt: 2023-04-11 16:57:02 -0400 (Tue, 11 Apr 2023) EndedAt: 2023-04-11 16:57:31 -0400 (Tue, 11 Apr 2023) EllapsedTime: 28.6 seconds RetCode: 0 Status: OK PackageFile: MEB_1.13.0.tar.gz PackageFileSize: 735 KiB