Package: M3C Version: 1.21.0 Command: /home/biocbuild/bbs-3.17-bioc/R/bin/R CMD check --install=check:M3C.install-out.txt --library=/home/biocbuild/bbs-3.17-bioc/R/site-library --timings M3C_1.21.0.tar.gz StartedAt: 2023-04-12 07:09:14 -0400 (Wed, 12 Apr 2023) EndedAt: 2023-04-12 07:11:30 -0400 (Wed, 12 Apr 2023) EllapsedTime: 135.4 seconds RetCode: 0 Status: OK CheckDir: M3C.Rcheck Warnings: 0