Package: LowMACA Version: 1.29.0 Command: /home/biocbuild/bbs-3.17-bioc/R/bin/R CMD build --keep-empty-dirs --no-resave-data LowMACA StartedAt: 2023-04-11 16:54:08 -0400 (Tue, 11 Apr 2023) EndedAt: 2023-04-11 16:55:21 -0400 (Tue, 11 Apr 2023) EllapsedTime: 73.4 seconds RetCode: 1 Status: ERROR PackageFile: None PackageFileSize: NA