Package: HDTD Version: 1.33.0 Command: /home/biocbuild/bbs-3.17-bioc/R/bin/R CMD INSTALL HDTD StartedAt: 2023-04-12 01:33:24 -0400 (Wed, 12 Apr 2023) EndedAt: 2023-04-12 01:34:01 -0400 (Wed, 12 Apr 2023) EllapsedTime: 37.2 seconds RetCode: 0 Status: OK