Package: HDTD Version: 1.33.0 Command: /home/biocbuild/bbs-3.17-bioc/R/bin/R CMD build --keep-empty-dirs --no-resave-data HDTD StartedAt: 2023-04-12 03:01:48 -0400 (Wed, 12 Apr 2023) EndedAt: 2023-04-12 03:02:25 -0400 (Wed, 12 Apr 2023) EllapsedTime: 37.2 seconds RetCode: 0 Status: OK PackageFile: HDTD_1.33.0.tar.gz PackageFileSize: 162.7 KiB