Package: Gviz Version: 1.43.2 Command: /home/biocbuild/bbs-3.17-bioc/R/bin/R CMD INSTALL Gviz StartedAt: 2023-04-11 15:21:40 -0400 (Tue, 11 Apr 2023) EndedAt: 2023-04-11 15:22:39 -0400 (Tue, 11 Apr 2023) EllapsedTime: 59.5 seconds RetCode: 0 Status: OK