Package: GeneTonic Version: 2.3.2 Command: /home/biocbuild/bbs-3.17-bioc/R/bin/R CMD INSTALL GeneTonic StartedAt: 2023-04-12 01:52:54 -0400 (Wed, 12 Apr 2023) EndedAt: 2023-04-12 01:53:42 -0400 (Wed, 12 Apr 2023) EllapsedTime: 47.4 seconds RetCode: 0 Status: OK