Package: GeneBreak Version: 1.29.0 Command: /home/biocbuild/bbs-3.17-bioc/R/bin/R CMD INSTALL GeneBreak StartedAt: 2023-04-12 01:40:47 -0400 (Wed, 12 Apr 2023) EndedAt: 2023-04-12 01:41:16 -0400 (Wed, 12 Apr 2023) EllapsedTime: 28.6 seconds RetCode: 0 Status: OK