Package: GWAS.BAYES Version: 1.9.5 Command: /home/biocbuild/bbs-3.17-bioc/R/bin/R CMD build --keep-empty-dirs --no-resave-data GWAS.BAYES StartedAt: 2023-04-11 16:43:33 -0400 (Tue, 11 Apr 2023) EndedAt: 2023-04-11 16:46:15 -0400 (Tue, 11 Apr 2023) EllapsedTime: 162.0 seconds RetCode: 0 Status: OK PackageFile: GWAS.BAYES_1.9.5.tar.gz PackageFileSize: 1.129 MiB