Package: GENIE3 Version: 1.21.0 Command: /home/biocbuild/bbs-3.17-bioc/R/bin/R CMD build --keep-empty-dirs --no-resave-data GENIE3 StartedAt: 2023-04-11 16:35:58 -0400 (Tue, 11 Apr 2023) EndedAt: 2023-04-11 16:36:04 -0400 (Tue, 11 Apr 2023) EllapsedTime: 5.9 seconds RetCode: 0 Status: OK PackageFile: GENIE3_1.21.0.tar.gz PackageFileSize: 241.3 KiB