Package: GARS Version: 1.19.0 Command: /home/biocbuild/bbs-3.17-bioc/R/bin/R CMD INSTALL GARS StartedAt: 2023-04-11 15:36:18 -0400 (Tue, 11 Apr 2023) EndedAt: 2023-04-11 15:37:11 -0400 (Tue, 11 Apr 2023) EllapsedTime: 53.6 seconds RetCode: 0 Status: OK