Package: GARS Version: 1.19.0 Command: /home/biocbuild/bbs-3.17-bioc/R/bin/R CMD build --keep-empty-dirs --no-resave-data GARS StartedAt: 2023-04-11 16:34:07 -0400 (Tue, 11 Apr 2023) EndedAt: 2023-04-11 16:35:56 -0400 (Tue, 11 Apr 2023) EllapsedTime: 109.1 seconds RetCode: 0 Status: OK PackageFile: GARS_1.19.0.tar.gz PackageFileSize: 438.5 KiB