Package: EpiDISH Version: 2.15.1 Command: /home/biocbuild/bbs-3.17-bioc/R/bin/R CMD build --keep-empty-dirs --no-resave-data EpiDISH StartedAt: 2023-04-11 16:26:31 -0400 (Tue, 11 Apr 2023) EndedAt: 2023-04-11 16:26:48 -0400 (Tue, 11 Apr 2023) EllapsedTime: 16.6 seconds RetCode: 0 Status: OK PackageFile: EpiDISH_2.15.1.tar.gz PackageFileSize: 2.827 MiB