Package: ERSSA Version: 1.17.0 Command: /home/biocbuild/bbs-3.17-bioc/R/bin/R CMD build --keep-empty-dirs --no-resave-data ERSSA StartedAt: 2023-04-11 16:28:12 -0400 (Tue, 11 Apr 2023) EndedAt: 2023-04-11 16:28:57 -0400 (Tue, 11 Apr 2023) EllapsedTime: 44.9 seconds RetCode: 0 Status: OK PackageFile: ERSSA_1.17.0.tar.gz PackageFileSize: 2.664 MiB