Package: DropletUtils Version: 1.19.3 Command: /home/biocbuild/bbs-3.17-bioc/R/bin/R CMD check --install=check:DropletUtils.install-out.txt --library=/home/biocbuild/bbs-3.17-bioc/R/site-library --timings DropletUtils_1.19.3.tar.gz StartedAt: 2023-04-12 06:00:32 -0400 (Wed, 12 Apr 2023) EndedAt: 2023-04-12 06:07:09 -0400 (Wed, 12 Apr 2023) EllapsedTime: 397.2 seconds RetCode: 0 Status: WARNINGS CheckDir: DropletUtils.Rcheck Warnings: 1