Package: Director Version: 1.25.0 Command: /home/biocbuild/bbs-3.17-bioc/R/bin/R CMD build --keep-empty-dirs --no-resave-data Director StartedAt: 2023-04-11 16:21:38 -0400 (Tue, 11 Apr 2023) EndedAt: 2023-04-11 16:21:44 -0400 (Tue, 11 Apr 2023) EllapsedTime: 6.3 seconds RetCode: 0 Status: OK PackageFile: Director_1.25.0.tar.gz PackageFileSize: 598.5 KiB