Package: CrispRVariants Version: 1.27.0 Command: /home/biocbuild/bbs-3.17-bioc/R/bin/R CMD INSTALL CrispRVariants StartedAt: 2023-04-12 01:41:18 -0400 (Wed, 12 Apr 2023) EndedAt: 2023-04-12 01:42:30 -0400 (Wed, 12 Apr 2023) EllapsedTime: 71.1 seconds RetCode: 0 Status: OK