Package: ChIPpeakAnno Version: 3.33.2 Command: /home/biocbuild/bbs-3.17-bioc/R/bin/R CMD build --keep-empty-dirs --no-resave-data ChIPpeakAnno StartedAt: 2023-04-12 02:27:05 -0400 (Wed, 12 Apr 2023) EndedAt: 2023-04-12 02:34:25 -0400 (Wed, 12 Apr 2023) EllapsedTime: 439.7 seconds RetCode: 0 Status: OK PackageFile: ChIPpeakAnno_3.33.2.tar.gz PackageFileSize: 18.39 MiB